BEGIN:VCALENDAR
VERSION:2.0
PRODID:-//Orange County Sheriff&#039;s Office - ECPv6.15.20//NONSGML v1.0//EN
CALSCALE:GREGORIAN
METHOD:PUBLISH
X-WR-CALNAME:Orange County Sheriff&#039;s Office
X-ORIGINAL-URL:https://www.ocso.com
X-WR-CALDESC:Events for Orange County Sheriff&#039;s Office
REFRESH-INTERVAL;VALUE=DURATION:PT1H
X-Robots-Tag:noindex
X-PUBLISHED-TTL:PT1H
BEGIN:VTIMEZONE
TZID:America/New_York
BEGIN:DAYLIGHT
TZOFFSETFROM:-0500
TZOFFSETTO:-0400
TZNAME:EDT
DTSTART:20250309T070000
END:DAYLIGHT
BEGIN:STANDARD
TZOFFSETFROM:-0400
TZOFFSETTO:-0500
TZNAME:EST
DTSTART:20251102T060000
END:STANDARD
BEGIN:DAYLIGHT
TZOFFSETFROM:-0500
TZOFFSETTO:-0400
TZNAME:EDT
DTSTART:20260308T070000
END:DAYLIGHT
BEGIN:STANDARD
TZOFFSETFROM:-0400
TZOFFSETTO:-0500
TZNAME:EST
DTSTART:20261101T060000
END:STANDARD
BEGIN:DAYLIGHT
TZOFFSETFROM:-0500
TZOFFSETTO:-0400
TZNAME:EDT
DTSTART:20270314T070000
END:DAYLIGHT
BEGIN:STANDARD
TZOFFSETFROM:-0400
TZOFFSETTO:-0500
TZNAME:EST
DTSTART:20271107T060000
END:STANDARD
END:VTIMEZONE
BEGIN:VEVENT
DTSTART;TZID=America/New_York:20260324T053000
DTEND;TZID=America/New_York:20260324T203000
DTSTAMP:20260421T053215
CREATED:20260122T160937Z
LAST-MODIFIED:20260122T160937Z
UID:10000188-1774330200-1774384200@www.ocso.com
SUMMARY:La Academia Civil de la Policía
DESCRIPTION:La Academia Civil de la Policía \nFecha: Todos los martes desde el 24 de marzo de 2026 al 12 de mayo de 2026. \nApertura de inscripciones: 24 de diciembre de 2025 \nHora: 6:30 pm – 9:30 pm (la primera y ultima clase comienza a las 5:30 PM) \nUbicación: 2500 W. Colonial Drive\, Orlando\, FL 32804
URL:https://www.ocso.com/event/la-academia-civil-de-la-policia/
LOCATION:OCSO\, 2500 W Colonial Dr\, Orlando\, FL\, 32804\, United States
CATEGORIES:Civilian Academies
END:VEVENT
END:VCALENDAR