BEGIN:VCALENDAR
VERSION:2.0
PRODID:-//Orange County Sheriff&#039;s Office - ECPv6.15.20//NONSGML v1.0//EN
CALSCALE:GREGORIAN
METHOD:PUBLISH
X-ORIGINAL-URL:https://www.ocso.com
X-WR-CALDESC:Events for Orange County Sheriff&#039;s Office
REFRESH-INTERVAL;VALUE=DURATION:PT1H
X-Robots-Tag:noindex
X-PUBLISHED-TTL:PT1H
BEGIN:VTIMEZONE
TZID:America/New_York
BEGIN:DAYLIGHT
TZOFFSETFROM:-0500
TZOFFSETTO:-0400
TZNAME:EDT
DTSTART:20250309T070000
END:DAYLIGHT
BEGIN:STANDARD
TZOFFSETFROM:-0400
TZOFFSETTO:-0500
TZNAME:EST
DTSTART:20251102T060000
END:STANDARD
BEGIN:DAYLIGHT
TZOFFSETFROM:-0500
TZOFFSETTO:-0400
TZNAME:EDT
DTSTART:20260308T070000
END:DAYLIGHT
BEGIN:STANDARD
TZOFFSETFROM:-0400
TZOFFSETTO:-0500
TZNAME:EST
DTSTART:20261101T060000
END:STANDARD
BEGIN:DAYLIGHT
TZOFFSETFROM:-0500
TZOFFSETTO:-0400
TZNAME:EDT
DTSTART:20270314T070000
END:DAYLIGHT
BEGIN:STANDARD
TZOFFSETFROM:-0400
TZOFFSETTO:-0500
TZNAME:EST
DTSTART:20271107T060000
END:STANDARD
END:VTIMEZONE
BEGIN:VEVENT
DTSTART;TZID=America/New_York:20260520T140000
DTEND;TZID=America/New_York:20260520T160000
DTSTAMP:20260421T075548
CREATED:20260217T140555Z
LAST-MODIFIED:20260217T140555Z
UID:10000200-1779285600-1779292800@www.ocso.com
SUMMARY:Senior vs Crime
DESCRIPTION:Join us for a Senior Interactive Session covering senior vs crime. Open to all seniors 55+ Seats are limited! Any questions please contact senior programs at 407-254-7375 or OCSOSeniors@ocsofl.com
URL:https://www.ocso.com/event/senior-vs-crime/
LOCATION:Hunter’s Creek Town Hall\, 14101 Town Loop Blvd.\, Orlando\, FL\, 32837\, United States
CATEGORIES:Senior Events
END:VEVENT
END:VCALENDAR