BEGIN:VCALENDAR
VERSION:2.0
PRODID:-//Orange County Sheriff&#039;s Office - ECPv6.15.20//NONSGML v1.0//EN
CALSCALE:GREGORIAN
METHOD:PUBLISH
X-WR-CALNAME:Orange County Sheriff&#039;s Office
X-ORIGINAL-URL:https://www.ocso.com
X-WR-CALDESC:Events for Orange County Sheriff&#039;s Office
REFRESH-INTERVAL;VALUE=DURATION:PT1H
X-Robots-Tag:noindex
X-PUBLISHED-TTL:PT1H
BEGIN:VTIMEZONE
TZID:America/New_York
BEGIN:DAYLIGHT
TZOFFSETFROM:-0500
TZOFFSETTO:-0400
TZNAME:EDT
DTSTART:20250309T070000
END:DAYLIGHT
BEGIN:STANDARD
TZOFFSETFROM:-0400
TZOFFSETTO:-0500
TZNAME:EST
DTSTART:20251102T060000
END:STANDARD
BEGIN:DAYLIGHT
TZOFFSETFROM:-0500
TZOFFSETTO:-0400
TZNAME:EDT
DTSTART:20260308T070000
END:DAYLIGHT
BEGIN:STANDARD
TZOFFSETFROM:-0400
TZOFFSETTO:-0500
TZNAME:EST
DTSTART:20261101T060000
END:STANDARD
BEGIN:DAYLIGHT
TZOFFSETFROM:-0500
TZOFFSETTO:-0400
TZNAME:EDT
DTSTART:20270314T070000
END:DAYLIGHT
BEGIN:STANDARD
TZOFFSETFROM:-0400
TZOFFSETTO:-0500
TZNAME:EST
DTSTART:20271107T060000
END:STANDARD
END:VTIMEZONE
BEGIN:VEVENT
DTSTART;TZID=America/New_York:20260416T130000
DTEND;TZID=America/New_York:20260416T160000
DTSTAMP:20260421T112055
CREATED:20260311T131805Z
LAST-MODIFIED:20260311T131805Z
UID:10000204-1776344400-1776355200@www.ocso.com
SUMMARY:Senior Connect Tropical Prom
DESCRIPTION:Mark your calendars for an unforgettable day of fun\, cherished memories\, and celebration. The Orange County Sheriff’s Office invites you to join us for our Senior Connect Prom\, themed “Tropical Island\,” for seniors aged 55 and better.
URL:https://www.ocso.com/event/senior-connect-tropical-prom/
LOCATION:Renaissance Senior Center\, 3800 South Econlockhatchee Trail\, Orlando\, FL\, 32829\, United States
CATEGORIES:Senior Events
END:VEVENT
END:VCALENDAR